{ "currentVersion": 11.3, "serviceDescription": "
Represents the morning temperature (6-7 am) in Portsmouth, Virginia on July 15, 2024.<\/SPAN><\/P><\/DIV><\/DIV><\/DIV>",
"name": "ElizabethRiver/PortsmouthMorningTemperatureHeatmap",
"description": " Represents the morning temperature (6-7 am) in Portsmouth, Virginia on July 15, 2024.<\/span><\/p><\/div><\/div><\/div>",
"extent": {
"xmin": 372900,
"ymin": 4071520,
"xmax": 385370,
"ymax": 4084910,
"spatialReference": {
"wkid": 32618,
"latestWkid": 32618
}
},
"initialExtent": {
"xmin": 372900,
"ymin": 4071520,
"xmax": 385370,
"ymax": 4084910,
"spatialReference": {
"wkid": 32618,
"latestWkid": 32618
}
},
"fullExtent": {
"xmin": 372900,
"ymin": 4071520,
"xmax": 385370,
"ymax": 4084910,
"spatialReference": {
"wkid": 32618,
"latestWkid": 32618
}
},
"sortableFields": "",
"bandCount": 1,
"pixelType": "U16",
"minValues": [
752
],
"maxValues": [
65535
],
"meanValues": [
37885.249266799
],
"stdvValues": [
32035.168400631
],
"hasMultidimensions": false,
"pixelSizeX": 10,
"pixelSizeY": 10,
"meanPixelSize": 10,
"datasetFormat": "TIFF",
"uncompressedSize": 3339466,
"blockWidth": 128,
"blockHeight": 128,
"compressionType": "LZW",
"bandNames": [
"Band_1"
],
"allowCopy": false,
"allowAnalysis": false,
"itemAccess": false,
"inspectionCapabilities": "",
"noDataValue": -2147483648,
"noDataValues": [
-2147483648
],
"minPixelSize": 0,
"maxPixelSize": 0,
"copyrightText": "Heat Watch Portsmouth and CAPA Heat Watch program",
"serviceDataType": "esriImageServiceDataTypeThematic",
"serviceSourceType": "esriImageServiceSourceTypeDataset",
"objectIdField": "",
"fields": [],
"capabilities": "Image,Metadata,Mensuration",
"defaultMosaicMethod": "Center",
"allowedMosaicMethods": "",
"sortField": "",
"sortValue": null,
"sortAscending": true,
"mosaicOperator": "First",
"defaultCompressionQuality": 75,
"defaultResamplingMethod": "Bilinear",
"maxImageHeight": 4100,
"maxImageWidth": 15000,
"allowRasterFunction": true,
"rasterFunctionInfos": [
{
"name": "Raster Function Template Portsmouth Morning Temperature",
"description": "Portmouth morning temperature continuous blue colormap",
"help": ""
},
{
"name": "None",
"description": "",
"help": ""
}
],
"rasterTypeInfos": [
{
"name": "Raster Dataset",
"description": "Supports all ArcGIS Raster Datasets",
"help": ""
}
],
"mensurationCapabilities": "Basic",
"hasHistograms": false,
"hasColormap": false,
"hasRasterAttributeTable": true,
"minScale": 0,
"maxScale": 0,
"exportTilesAllowed": false,
"supportsStatistics": false,
"supportsAdvancedQueries": false,
"editFieldsInfo": null,
"ownershipBasedAccessControlForRasters": null,
"allowComputeTiePoints": false,
"useStandardizedQueries": true,
"advancedQueryCapabilities": {
"useStandardizedQueries": true,
"supportsStatistics": false,
"supportsOrderBy": false,
"supportsDistinct": false,
"supportsPagination": false
},
"spatialReference": {
"wkid": 32618,
"latestWkid": 32618
}
}