<?xml version="1.0" encoding="UTF-8" standalone="no"?>
<metadata xml:lang="en">
<Esri>
<CreaDate>20241017</CreaDate>
<CreaTime>13054800</CreaTime>
<ArcGISFormat>1.0</ArcGISFormat>
<SyncOnce>FALSE</SyncOnce>
<DataProperties>
<itemProps>
<itemName Sync="TRUE">FiveLocalitiesLU2018_mosaicToNewRaster.tif</itemName>
<itemLocation>
<linkage Sync="TRUE">file://\\cmap22\arcgis\Tami\Virginia\Data\ChesapeakeConservancyHiResLULC\lulc_2018_folder\FiveLocalitiesLU2018_mosaicToNewRaster.tif</linkage>
<protocol Sync="TRUE">Local Area Network</protocol>
</itemLocation>
<imsContentType Sync="TRUE">002</imsContentType>
<nativeExtBox>
<westBL Sync="TRUE">1632045.000000</westBL>
<eastBL Sync="TRUE">1778296.000000</eastBL>
<southBL Sync="TRUE">1684095.000000</southBL>
<northBL Sync="TRUE">1858066.000000</northBL>
<exTypeCode Sync="TRUE">1</exTypeCode>
</nativeExtBox>
</itemProps>
<coordRef>
<type Sync="TRUE">Projected</type>
<geogcsn Sync="TRUE">GCS_North_American_1983</geogcsn>
<csUnits Sync="TRUE">Linear Unit: Meter (1.000000)</csUnits>
<projcsn Sync="TRUE">USA_Contiguous_Albers_Equal_Area_Conic_USGS_version</projcsn>
<peXml Sync="TRUE">&lt;ProjectedCoordinateSystem xsi:type='typens:ProjectedCoordinateSystem' xmlns:xsi='http://www.w3.org/2001/XMLSchema-instance' xmlns:xs='http://www.w3.org/2001/XMLSchema' xmlns:typens='http://www.esri.com/schemas/ArcGIS/3.2.0'&gt;&lt;WKT&gt;PROJCS[&amp;quot;USA_Contiguous_Albers_Equal_Area_Conic_USGS_version&amp;quot;,GEOGCS[&amp;quot;GCS_North_American_1983&amp;quot;,DATUM[&amp;quot;D_North_American_1983&amp;quot;,SPHEROID[&amp;quot;GRS_1980&amp;quot;,6378137.0,298.257222101]],PRIMEM[&amp;quot;Greenwich&amp;quot;,0.0],UNIT[&amp;quot;Degree&amp;quot;,0.0174532925199433]],PROJECTION[&amp;quot;Albers&amp;quot;],PARAMETER[&amp;quot;False_Easting&amp;quot;,0.0],PARAMETER[&amp;quot;False_Northing&amp;quot;,0.0],PARAMETER[&amp;quot;Central_Meridian&amp;quot;,-96.0],PARAMETER[&amp;quot;Standard_Parallel_1&amp;quot;,29.5],PARAMETER[&amp;quot;Standard_Parallel_2&amp;quot;,45.5],PARAMETER[&amp;quot;Latitude_Of_Origin&amp;quot;,23.0],UNIT[&amp;quot;Meter&amp;quot;,1.0],AUTHORITY[&amp;quot;Esri&amp;quot;,102039]]&lt;/WKT&gt;&lt;XOrigin&gt;-16901100&lt;/XOrigin&gt;&lt;YOrigin&gt;-6972200&lt;/YOrigin&gt;&lt;XYScale&gt;266467840.99085236&lt;/XYScale&gt;&lt;ZOrigin&gt;-100000&lt;/ZOrigin&gt;&lt;ZScale&gt;10000&lt;/ZScale&gt;&lt;MOrigin&gt;-100000&lt;/MOrigin&gt;&lt;MScale&gt;10000&lt;/MScale&gt;&lt;XYTolerance&gt;0.001&lt;/XYTolerance&gt;&lt;ZTolerance&gt;0.001&lt;/ZTolerance&gt;&lt;MTolerance&gt;0.001&lt;/MTolerance&gt;&lt;HighPrecision&gt;true&lt;/HighPrecision&gt;&lt;WKID&gt;102039&lt;/WKID&gt;&lt;LatestWKID&gt;102039&lt;/LatestWKID&gt;&lt;/ProjectedCoordinateSystem&gt;</peXml>
</coordRef>
<RasterProperties>
<General>
<PixelDepth Sync="TRUE">8</PixelDepth>
<HasColormap Sync="TRUE">FALSE</HasColormap>
<CompressionType Sync="TRUE">LZW</CompressionType>
<NumBands Sync="TRUE">1</NumBands>
<Format Sync="TRUE">TIFF</Format>
<HasPyramids Sync="TRUE">TRUE</HasPyramids>
<SourceType Sync="TRUE">continuous</SourceType>
<PixelType Sync="TRUE">unsigned integer</PixelType>
<NoDataValue Sync="TRUE">255</NoDataValue>
</General>
</RasterProperties>
<lineage>
<Process Date="20241017" Name="" Time="130548" ToolSource="c:\program files\arcgis\pro\Resources\ArcToolbox\toolboxes\Data Management Tools.tbx\MosaicToNewRaster" export="">MosaicToNewRaster \\cmap22\arcgis\Tami\Virginia\Data\ChesapeakeConservancyHiResLULC\hamp_51650_lulc_2018\hamp_51650_lu_2018.tif;\\cmap22\arcgis\Tami\Virginia\Data\ChesapeakeConservancyHiResLULC\nort_51133_lulc_2018\nort_51133_lu_2018.tif;\\cmap22\arcgis\Tami\Virginia\Data\ChesapeakeConservancyHiResLULC\poqu_51735_lulc_2018\poqu_51735_lu_2018.tif;\\cmap22\arcgis\Tami\Virginia\Data\ChesapeakeConservancyHiResLULC\virg_51810_lulc_2018\virg_51810_lu_2018.tif;\\cmap22\arcgis\Tami\Virginia\Data\ChesapeakeConservancyHiResLULC\west_51193_lulc_2018\west_51193_lu_2018.tif \\cmap22\arcgis\Tami\Virginia\Data\ChesapeakeConservancyHiResLULC\lulc_2018_folder FiveLocalitiesLU2018_mosaicToNewRaster.tif PROJCS["USA_Contiguous_Albers_Equal_Area_Conic_USGS_version",GEOGCS["GCS_North_American_1983",DATUM["D_North_American_1983",SPHEROID["GRS_1980",6378137.0,298.257222101]],PRIMEM["Greenwich",0.0],UNIT["Degree",0.0174532925199433]],PROJECTION["Albers"],PARAMETER["False_Easting",0.0],PARAMETER["False_Northing",0.0],PARAMETER["Central_Meridian",-96.0],PARAMETER["Standard_Parallel_1",29.5],PARAMETER["Standard_Parallel_2",45.5],PARAMETER["Latitude_Of_Origin",23.0],UNIT["Meter",1.0]] "8 bit unsigned" 1 1 Last First</Process>
<Process Date="20241017" Name="" Time="131149" ToolSource="c:\program files\arcgis\pro\Resources\ArcToolbox\toolboxes\Data Management Tools.tbx\JoinField" export="">JoinField \\cmap22\arcgis\Tami\Virginia\Data\ChesapeakeConservancyHiResLULC\lulc_2018_folder\FiveLocalitiesLU2018_mosaicToNewRaster.tif Value virg_51810_lu_2018.tif Value GeneralLU;LandUse;Red;Green;Blue;Year "Select transfer fields" # "Do not add indexes"</Process>
</lineage>
</DataProperties>
<SyncDate>20241017</SyncDate>
<SyncTime>13054800</SyncTime>
<ModDate>20241017</ModDate>
<ModTime>13374400</ModTime>
<scaleRange>
<minScale>150000000</minScale>
<maxScale>5000</maxScale>
</scaleRange>
<ArcGISProfile>ISO19115_3</ArcGISProfile>
</Esri>
<dataIdInfo>
<envirDesc Sync="TRUE">Microsoft Windows 10 Version 10.0 (Build 19045) ; Esri ArcGIS 13.2.2.49743</envirDesc>
<dataLang>
<languageCode Sync="TRUE" value="eng"/>
<countryCode Sync="TRUE" value="USA"/>
</dataLang>
<idCitation>
<resTitle Sync="TRUE">ChesapeakeConservancy2018LULC</resTitle>
<presForm>
<PresFormCd Sync="TRUE" value="005"/>
</presForm>
<otherCitDet>Chesapeake Bay Program Office (CBPO), 2022. One-meter Resolution Land
Use/Land Cover Dataset for the Chesapeake Bay Watershed, 2017/18.
Developed by the Chesapeake Conservancy, U.S. Geological Survey, and
University of Vermont Spatial Analysis Lab. accessed Oct 2024, https://www.chesapeakeconservancy.org/conservation-innovation-center/high-resolution-data/lulc-data-project-2022/</otherCitDet>
</idCitation>
<spatRpType>
<SpatRepTypCd Sync="TRUE" value="002"/>
</spatRpType>
<dataExt>
<geoEle>
<GeoBndBox esriExtentType="search">
<exTypeCode Sync="TRUE">1</exTypeCode>
<westBL Sync="TRUE">-77.428505</westBL>
<eastBL Sync="TRUE">-75.390160</eastBL>
<northBL Sync="TRUE">38.284456</northBL>
<southBL Sync="TRUE">36.497855</southBL>
</GeoBndBox>
</geoEle>
</dataExt>
<idAbs>&lt;DIV STYLE="text-align:Left;"&gt;&lt;DIV&gt;&lt;DIV&gt;&lt;P&gt;&lt;SPAN&gt;Chesapeake Conservancy, U.S. Geological Survey (USGS) and University of Vermont Spatial Analysis Lab (UVM SAL) are collaborating, with funding from the Chesapeake Bay Program (CBP), to produce 1-meter resolution land cover and land use/land cover datasets for the Chesapeake Bay watershed regional area (206 counties, over 250,000 km2). These data are foundational, authoritative, and transformative looks at the landscape and its management throughout the region.&lt;/SPAN&gt;&lt;/P&gt;&lt;P&gt;&lt;SPAN&gt;The production of the CBP 1-meter “land cover” data involves the identification and classification of image objects derived from aerial imagery (National Agriculture Imagery Program, NAIP), above-ground height information derived from LiDAR, and other ancillary data. Land cover represents the surface characteristics of the land with classes such as impervious cover, tree canopy, herbaceous, and barren. In contrast, “land use” represents how humans use and manage the land with classes such as turf grass, cropland, and timber harvest. Producing land use from land cover data requires a variety of ancillary datasets combined with spatial rules that leverage the contextual information inherent in the land cover data. The CBP’s land use/land cover (LULC) data are so named because they represent a combination of cover and use classes (e.g., extractive-barren, solar-herbaceous) that are critical for understanding the impact of human activities on the Chesapeake Bay. For example: one land cover class (herbaceous vegetation) encapsulates both the highest polluting land use (e.g., corn production) or one of the lowest (e.g., natural succession). The LULC data contextualize the land cover classes for decision-making, such as informing outcomes in the Chesapeake Bay Watershed Agreement and serving as the basis for developing the next generation of watershed and land change models.&lt;/SPAN&gt;&lt;/P&gt;&lt;P&gt;&lt;SPAN&gt;For more information, please visit &lt;/SPAN&gt;&lt;A href="https://www.chesapeakeconservancy.org:443/conservation-innovation-center/high-resolution-data/lulc-data-project-2022/" STYLE="text-decoration:underline;"&gt;&lt;SPAN&gt;https://www.chesapeakeconservancy.org/conservation-innovation-center/high-resolution-data/lulc-data-project-2022/&lt;/SPAN&gt;&lt;/A&gt;&lt;/P&gt;&lt;/DIV&gt;&lt;/DIV&gt;&lt;/DIV&gt;</idAbs>
<idCredit>Chesapeake Conservancy</idCredit>
<searchKeys>
<keyword>land use land cover</keyword>
<keyword>City of Hampton</keyword>
<keyword>Northumberland County</keyword>
<keyword>City of Poquoson</keyword>
<keyword>City of Virginia Beach</keyword>
<keyword>Westmoreland County</keyword>
</searchKeys>
<idPurp>Chesapeake Conservancy 2017/2018 1-meter high resolution land use\land cover is displayed for 5 Virginia localities (Hampton, Northumberland. Poquoson. Virginia Beach, and Westmoreland).</idPurp>
<resConst>
<Consts>
<useLimit/>
</Consts>
</resConst>
</dataIdInfo>
<mdLang>
<languageCode Sync="TRUE" value="eng"/>
<countryCode Sync="TRUE" value="USA"/>
</mdLang>
<mdChar>
<CharSetCd Sync="TRUE" value="004"/>
</mdChar>
<distInfo>
<distFormat>
<formatName Sync="TRUE">Raster Dataset</formatName>
</distFormat>
</distInfo>
<mdHrLv>
<ScopeCd Sync="TRUE" value="005"/>
</mdHrLv>
<mdHrLvName Sync="TRUE">dataset</mdHrLvName>
<refSysInfo>
<RefSystem>
<refSysID>
<identCode Sync="TRUE" code="102039"/>
<idCodeSpace Sync="TRUE">Esri</idCodeSpace>
<idVersion Sync="TRUE">8.1.2</idVersion>
</refSysID>
</RefSystem>
</refSysInfo>
<spatRepInfo>
<Georect>
<cellGeo>
<CellGeoCd Sync="TRUE" value="002"/>
</cellGeo>
<numDims Sync="TRUE">2</numDims>
<tranParaAv Sync="TRUE">1</tranParaAv>
<chkPtAv Sync="TRUE">0</chkPtAv>
<cornerPts>
<pos Sync="TRUE">1632045.000000 1684095.000000</pos>
</cornerPts>
<cornerPts>
<pos Sync="TRUE">1632045.000000 1858066.000000</pos>
</cornerPts>
<cornerPts>
<pos Sync="TRUE">1778296.000000 1858066.000000</pos>
</cornerPts>
<cornerPts>
<pos Sync="TRUE">1778296.000000 1684095.000000</pos>
</cornerPts>
<centerPt>
<pos Sync="TRUE">1705170.500000 1771080.500000</pos>
</centerPt>
<axisDimension type="002">
<dimSize Sync="TRUE">146251</dimSize>
<dimResol>
<value Sync="TRUE" uom="m">1.000000</value>
</dimResol>
</axisDimension>
<axisDimension type="001">
<dimSize Sync="TRUE">173971</dimSize>
<dimResol>
<value Sync="TRUE" uom="m">1.000000</value>
</dimResol>
</axisDimension>
<ptInPixel>
<PixOrientCd Sync="TRUE" value="001"/>
</ptInPixel>
</Georect>
</spatRepInfo>
<contInfo>
<ImgDesc>
<contentTyp>
<ContentTypCd Sync="TRUE" value="001"/>
</contentTyp>
<covDim>
<Band>
<dimDescrp Sync="TRUE">Band_1</dimDescrp>
<maxVal Sync="TRUE">95.000000</maxVal>
<minVal Sync="TRUE">11.000000</minVal>
<bitsPerVal Sync="TRUE">8</bitsPerVal>
<valUnit>
<UOM type="length"/>
</valUnit>
</Band>
</covDim>
</ImgDesc>
</contInfo>
<mdDateSt Sync="TRUE">20241017</mdDateSt>
</metadata>
