Chesapeake Conservancy, U.S. Geological Survey (USGS) and University of Vermont Spatial Analysis Lab (UVM SAL) are collaborating, with funding from the Chesapeake Bay Program (CBP), to produce 1-meter resolution land cover and land use/land cover datasets for the Chesapeake Bay watershed regional area (206 counties, over 250,000 km2). These data are foundational, authoritative, and transformative looks at the landscape and its management throughout the region.<\/SPAN><\/P>The production of the CBP 1-meter \u201cland cover\u201d data involves the identification and classification of image objects derived from aerial imagery (National Agriculture Imagery Program, NAIP), above-ground height information derived from LiDAR, and other ancillary data. Land cover represents the surface characteristics of the land with classes such as impervious cover, tree canopy, herbaceous, and barren. In contrast, \u201cland use\u201d represents how humans use and manage the land with classes such as turf grass, cropland, and timber harvest. Producing land use from land cover data requires a variety of ancillary datasets combined with spatial rules that leverage the contextual information inherent in the land cover data. The CBP\u2019s land use/land cover (LULC) data are so named because they represent a combination of cover and use classes (e.g., extractive-barren, solar-herbaceous) that are critical for understanding the impact of human activities on the Chesapeake Bay. For example: one land cover class (herbaceous vegetation) encapsulates both the highest polluting land use (e.g., corn production) or one of the lowest (e.g., natural succession). The LULC data contextualize the land cover classes for decision-making, such as informing outcomes in the Chesapeake Bay Watershed Agreement and serving as the basis for developing the next generation of watershed and land change models.<\/SPAN><\/P>For more information, please visit <\/SPAN>https://www.chesapeakeconservancy.org/conservation-innovation-center/high-resolution-data/lulc-data-project-2022/<\/SPAN><\/A><\/P><\/DIV><\/DIV><\/DIV>",
"extent": {
"xmin": 1632045.0000000005,
"ymin": 1684094.9999999981,
"xmax": 1778296.0000000005,
"ymax": 1858065.9999999981,
"spatialReference": {
"wkid": 102039,
"latestWkid": 102039
}
},
"initialExtent": {
"xmin": 1632045.0000000005,
"ymin": 1684094.9999999981,
"xmax": 1778296.0000000005,
"ymax": 1858065.9999999981,
"spatialReference": {
"wkid": 102039,
"latestWkid": 102039
}
},
"fullExtent": {
"xmin": 1632045.0000000005,
"ymin": 1684094.9999999981,
"xmax": 1778296.0000000005,
"ymax": 1858065.9999999981,
"spatialReference": {
"wkid": 102039,
"latestWkid": 102039
}
},
"sortableFields": "",
"bandCount": 1,
"pixelType": "U8",
"minValues": [
11
],
"maxValues": [
95
],
"meanValues": [
34.900435785883
],
"stdvValues": [
27.484813151489
],
"hasMultidimensions": false,
"pixelSizeX": 1,
"pixelSizeY": 1,
"meanPixelSize": 1,
"datasetFormat": "TIFF",
"uncompressedSize": 25443432721,
"blockWidth": 128,
"blockHeight": 128,
"compressionType": "LZW",
"bandNames": [
"Band_1"
],
"allowCopy": true,
"allowAnalysis": true,
"itemAccess": false,
"inspectionCapabilities": "",
"noDataValue": 255,
"noDataValues": [
255
],
"minPixelSize": 0,
"maxPixelSize": 0,
"copyrightText": "Chesapeake Conservancy",
"serviceDataType": "esriImageServiceDataTypeGeneric",
"serviceSourceType": "esriImageServiceSourceTypeDataset",
"objectIdField": "",
"fields": [],
"capabilities": "Image,Metadata,Mensuration",
"defaultMosaicMethod": "Center",
"allowedMosaicMethods": "",
"sortField": "",
"sortValue": null,
"sortAscending": true,
"mosaicOperator": "First",
"defaultCompressionQuality": 75,
"defaultResamplingMethod": "Bilinear",
"maxImageHeight": 4100,
"maxImageWidth": 15000,
"allowRasterFunction": true,
"rasterFunctionInfos": [
{
"name": "None",
"description": "",
"help": ""
}
],
"rasterTypeInfos": [
{
"name": "Raster Dataset",
"description": "Supports all ArcGIS Raster Datasets",
"help": ""
}
],
"mensurationCapabilities": "Basic",
"hasHistograms": true,
"hasColormap": false,
"hasRasterAttributeTable": true,
"minScale": 0,
"maxScale": 0,
"exportTilesAllowed": false,
"supportsStatistics": false,
"supportsAdvancedQueries": false,
"editFieldsInfo": null,
"ownershipBasedAccessControlForRasters": null,
"allowComputeTiePoints": false,
"useStandardizedQueries": true,
"advancedQueryCapabilities": {
"useStandardizedQueries": true,
"supportsStatistics": false,
"supportsOrderBy": false,
"supportsDistinct": false,
"supportsPagination": false
},
"spatialReference": {
"wkid": 102039,
"latestWkid": 102039
}
}