{
 "currentVersion": 11.3,
 "serviceDescription": "The Chesapeake Bay Land Use/Land Cover (LULC) Database facilitates the characterization of the landscape over time for three discrete time periods at 1-meter spatial resolution. The database was developed by Chesapeake Conservancy (CC) in cooperation with the University of Vermont\u2019s Spatial Analysis Laboratory and U.S. Geological Survey (USGS) as part of a 6-year Cooperative Agreement between Chesapeake Conservancy and the U.S. Environmental Protection Agency (EPA) and a separate Interagency Agreement between the USGS and EPA to provide geospatial support to the Chesapeake Bay Program Office. The database contains one-meter, 56-class Land Use/Land Cover (LULC) for all counties (205) within or adjacent to the Chesapeake Bay watershed for 2013/14, 2017/18, and 2021/22 depending on availability of National Agricultural Imagery Program (NAIP) imagery for each state. The data are built from 11-class Land Cover (LC), which is attributed to the LULC raster data Additionally, 56 LULC classes are generalized into 18 general LULC classes for ease of visualization and communication of LULC trends. LC change between discrete time periods, detected by spectral changes in NAIP imagery and LiDAR, represents changes between the 11 land cover classes. LULC change uses LC change to identify where changes are happening and then LC is translated to LULC to represent transitions between the 56 LULC classes. The LULCC data is represented as a LULC class change transition matrix which provides users acres of change between multiple classes. It is organized by 18x18 and 56x56 LULC classes and 11x11 LC classes. Sheets with Chesapeake Bay Water (CBW) in the name indicates raster tabulations were performed for only areas that fall inside the CBW boundary e.g., if user is interested in CBW portion of a county then they will use LULC Matrix CBW. Conversely, if they are interested in change transitions across the entire county, they will use LULC Matrix. Additionally, tabular summaries of 56 LULC, 18 LULC, and 11 LC representing the acres per class by county, state, and Chesapeake Bay portion of county and states and the net acres of change per class by county, state, and Chesapeake Bay portion of county and states. The database includes the following data: 1. 2013/2014 Land Use and Land Cover (LULC) 2. 2017/2018 Land Use and Land Cover (LULC) 3. 2021/2022 Land Use and Land Cover (LULC) 4. 2013/2014 to 2017/2018 Land Use and Land Cover Change (LULCC) rasters and LULCC matrices 5. 2013/2014 to 2021/2022 Land Use and Land Cover Change (LULCC) rasters and LULCC matrices 6. 2017/2018 to 2021/2022 Land Use and Land Cover Change (LULCC) rasters and LULCC matrices 7. LULC State and County Summary Tables 8. LULC State and County Summary Tables (Chesapeake Bay Watershed Portion) 9. LULCC State and County Summary Tables 10. Land Use/Land Cover Change State and County Summary Tables (Chesapeake Bay Watershed Portion)",
 "name": "VaShlInv_SMM/ChesapeakeConservancy2022LULCSelectLocalities",
 "description": "The Chesapeake Bay Land Use/Land Cover (LULC) Database facilitates the characterization of the landscape over time for three discrete time periods at 1-meter spatial resolution. The database was developed by Chesapeake Conservancy (CC) in cooperation with the University of Vermont\u2019s Spatial Analysis Laboratory and U.S. Geological Survey (USGS) as part of a 6-year Cooperative Agreement between Chesapeake Conservancy and the U.S. Environmental Protection Agency (EPA) and a separate Interagency Agreement between the USGS and EPA to provide geospatial support to the Chesapeake Bay Program Office. The database contains one-meter, 56-class Land Use/Land Cover (LULC) for all counties (205) within or adjacent to the Chesapeake Bay watershed for 2013/14, 2017/18, and 2021/22 depending on availability of National Agricultural Imagery Program (NAIP) imagery for each state. The data are built from 11-class Land Cover (LC), which is attributed to the LULC raster data Additionally, 56 LULC classes are generalized into 18 general LULC classes for ease of visualization and communication of LULC trends. LC change between discrete time periods, detected by spectral changes in NAIP imagery and LiDAR, represents changes between the 11 land cover classes. LULC change uses LC change to identify where changes are happening and then LC is translated to LULC to represent transitions between the 56 LULC classes. The LULCC data is represented as a LULC class change transition matrix which provides users acres of change between multiple classes. It is organized by 18x18 and 56x56 LULC classes and 11x11 LC classes. Sheets with Chesapeake Bay Water (CBW) in the name indicates raster tabulations were performed for only areas that fall inside the CBW boundary e.g., if user is interested in CBW portion of a county then they will use LULC Matrix CBW. Conversely, if they are interested in change transitions across the entire county, they will use LULC Matrix. Additionally, tabular summaries of 56 LULC, 18 LULC, and 11 LC representing the acres per class by county, state, and Chesapeake Bay portion of county and states and the net acres of change per class by county, state, and Chesapeake Bay portion of county and states. The database includes the following data: 1. 2013/2014 Land Use and Land Cover (LULC) 2. 2017/2018 Land Use and Land Cover (LULC) 3. 2021/2022 Land Use and Land Cover (LULC) 4. 2013/2014 to 2017/2018 Land Use and Land Cover Change (LULCC) rasters and LULCC matrices 5. 2013/2014 to 2021/2022 Land Use and Land Cover Change (LULCC) rasters and LULCC matrices 6. 2017/2018 to 2021/2022 Land Use and Land Cover Change (LULCC) rasters and LULCC matrices 7. LULC State and County Summary Tables 8. LULC State and County Summary Tables (Chesapeake Bay Watershed Portion) 9. LULCC State and County Summary Tables 10. Land Use/Land Cover Change State and County Summary Tables (Chesapeake Bay Watershed Portion)",
 "extent": {
  "xmin": 1632075.0000000005,
  "ymin": 1684094.9999999981,
  "xmax": 1778296.0000000005,
  "ymax": 1858065.9999999981,
  "spatialReference": {
   "wkid": 102039,
   "latestWkid": 102039
  }
 },
 "initialExtent": {
  "xmin": 1632075.0000000005,
  "ymin": 1684094.9999999981,
  "xmax": 1778296.0000000005,
  "ymax": 1858065.9999999981,
  "spatialReference": {
   "wkid": 102039,
   "latestWkid": 102039
  }
 },
 "fullExtent": {
  "xmin": 1632075.0000000005,
  "ymin": 1684094.9999999981,
  "xmax": 1778296.0000000005,
  "ymax": 1858065.9999999981,
  "spatialReference": {
   "wkid": 102039,
   "latestWkid": 102039
  }
 },
 "sortableFields": "",
 "bandCount": 1,
 "pixelType": "U8",
 "minValues": [
  10
 ],
 "maxValues": [
  86
 ],
 "meanValues": [
  30.828931175491
 ],
 "stdvValues": [
  22.941227661286
 ],
 "hasMultidimensions": false,
 "pixelSizeX": 1,
 "pixelSizeY": 1,
 "meanPixelSize": 1,
 "datasetFormat": "TIFF",
 "uncompressedSize": 25438213591,
 "blockWidth": 128,
 "blockHeight": 128,
 "compressionType": "LZW",
 "bandNames": [
  "Band_1"
 ],
 "allowCopy": true,
 "allowAnalysis": true,
 "itemAccess": false,
 "inspectionCapabilities": "",
 "noDataValue": 255,
 "noDataValues": [
  255
 ],
 "minPixelSize": 0,
 "maxPixelSize": 0,
 "copyrightText": "Funding provided by U.S. Environmental Protection Agency Chesapeake Bay Program. Cooperative participants: University of Vermont Spatial Analysis Laboratory, Chesapeake Conservancy and U.S. Geological Survey.",
 "serviceDataType": "esriImageServiceDataTypeGeneric",
 "serviceSourceType": "esriImageServiceSourceTypeDataset",
 "objectIdField": "",
 "fields": [],
 "capabilities": "Image,Metadata,Mensuration",
 "defaultMosaicMethod": "Center",
 "allowedMosaicMethods": "",
 "sortField": "",
 "sortValue": null,
 "sortAscending": true,
 "mosaicOperator": "First",
 "defaultCompressionQuality": 75,
 "defaultResamplingMethod": "Bilinear",
 "maxImageHeight": 4100,
 "maxImageWidth": 15000,
 "allowRasterFunction": true,
 "rasterFunctionInfos": [
  {
   "name": "None",
   "description": "",
   "help": ""
  }
 ],
 "rasterTypeInfos": [
  {
   "name": "Raster Dataset",
   "description": "Supports all ArcGIS Raster Datasets",
   "help": ""
  }
 ],
 "mensurationCapabilities": "Basic",
 "hasHistograms": true,
 "hasColormap": false,
 "hasRasterAttributeTable": true,
 "minScale": 0,
 "maxScale": 0,
 "exportTilesAllowed": false,
 "supportsStatistics": false,
 "supportsAdvancedQueries": false,
 "editFieldsInfo": null,
 "ownershipBasedAccessControlForRasters": null,
 "allowComputeTiePoints": false,
 "useStandardizedQueries": true,
 "advancedQueryCapabilities": {
  "useStandardizedQueries": true,
  "supportsStatistics": false,
  "supportsOrderBy": false,
  "supportsDistinct": false,
  "supportsPagination": false
 },
 "spatialReference": {
  "wkid": 102039,
  "latestWkid": 102039
 }
}
