View In:
ArcGIS JavaScript
ArcGIS Online Map Viewer
ArcGIS Earth
Service Description: ElizabethRiver/PortsmouthAfternoonTemperatureHeatMap
Name: ElizabethRiver/PortsmouthAfternoonTemperatureHeatMap
Description:
Single Fused Map Cache: false
Extent:
XMin: 372900
YMin: 4071520
XMax: 385370
YMax: 4084910
Spatial Reference: 32618
(32618)
Initial Extent:
XMin: 372900
YMin: 4071520
XMax: 385370
YMax: 4084910
Spatial Reference: 32618
(32618)
Full Extent:
XMin: 372900
YMin: 4071520
XMax: 385370
YMax: 4084910
Spatial Reference: 32618
(32618)
Pixel Size X: 10.0
Pixel Size Y: 10.0
Band Count: 1
Pixel Type: U16
RasterFunction Infos: {"rasterFunctionInfos": [
{
"name": "Raster Function Template Portsmouth pm temperature",
"description": "A raster function template for Portsmouth pm temperature raster.",
"help": ""
},
{
"name": "None",
"description": "",
"help": ""
}
]}
Mensuration Capabilities: Basic
Inspection Capabilities:
Has Histograms: false
Has Colormap: false
Has Multi Dimensions : false
Rendering Rule:
Min Scale: 0
Max Scale: 0
Copyright Text:
Service Data Type: esriImageServiceDataTypeThematic
Min Values: 921
Max Values: 65535
Mean Values: 37965.089435856
Standard Deviation Values: 31942.665105889
Object ID Field:
Fields:
None
Default Mosaic Method: Center
Allowed Mosaic Methods:
SortField:
SortValue: null
Mosaic Operator: First
Default Compression Quality: 75
Default Resampling Method: Bilinear
Max Record Count: null
Max Image Height: 4100
Max Image Width: 15000
Max Download Image Count: null
Max Mosaic Image Count: null
Allow Raster Function: true
Allow Copy: false
Allow Analysis: true
Allow Compute TiePoints: false
Supports Statistics: false
Supports Advanced Queries: false
Use StandardizedQueries: true
Raster Type Infos:
Name: Raster Dataset
Description: Supports all ArcGIS Raster Datasets
Help:
Has Raster Attribute Table: true
Edit Fields Info: null
Ownership Based AccessControl For Rasters: null
Child Resources:
Info
Raster Attribute Table
Statistics
Key Properties
Legend
Raster Function Infos
Supported Operations:
Export Image
Identify
Measure
Compute Histograms
Compute Statistics Histograms
Get Samples
Compute Class Statistics
Query Boundary
Compute Pixel Location
Compute Angles
Validate
Project