View In:
ArcGIS JavaScript
ArcGIS Online Map Viewer
ArcGIS Earth
Service Description: VDOT_ServiceAreas/H78
Name: VDOT_ServiceAreas/H78
Description:
Single Fused Map Cache: false
Extent:
XMin: -8645949.641401252
YMin: 4356905.190406617
XMax: -8367100.4480864825
YMax: 4714294.841105489
Spatial Reference: 102100
(3857)
Initial Extent:
XMin: -8645949.641401252
YMin: 4356905.190406617
XMax: -8367100.4480864825
YMax: 4714294.841105489
Spatial Reference: 102100
(3857)
Full Extent:
XMin: -8645949.641401252
YMin: 4356905.190406617
XMax: -8367100.4480864825
YMax: 4714294.841105489
Spatial Reference: 102100
(3857)
Pixel Size X: 1.2658219959724606
Pixel Size Y: 1.2658219959724595
Band Count: 1
Pixel Type: U8
RasterFunction Infos: {"rasterFunctionInfos": [{
"name": "None",
"description": "",
"help": ""
}]}
Mensuration Capabilities: Basic
Inspection Capabilities:
Has Histograms: true
Has Colormap: false
Has Multi Dimensions : false
Rendering Rule:
Min Scale: 0
Max Scale: 0
Copyright Text:
Service Data Type: esriImageServiceDataTypeGeneric
Min Values: 0
Max Values: 4
Mean Values: 0.22266099981928
Standard Deviation Values: 0.48760121409253
Object ID Field:
Fields:
None
Default Mosaic Method: Center
Allowed Mosaic Methods:
SortField:
SortValue: null
Mosaic Operator: First
Default Compression Quality: 75
Default Resampling Method: Bilinear
Max Record Count: null
Max Image Height: 4100
Max Image Width: 15000
Max Download Image Count: null
Max Mosaic Image Count: null
Allow Raster Function: true
Allow Copy: false
Allow Analysis: true
Allow Compute TiePoints: false
Supports Statistics: false
Supports Advanced Queries: false
Use StandardizedQueries: true
Raster Type Infos:
Name: Raster Dataset
Description: Supports all ArcGIS Raster Datasets
Help:
Has Raster Attribute Table: true
Edit Fields Info: null
Ownership Based AccessControl For Rasters: null
Child Resources:
Info
Raster Attribute Table
Histograms
Statistics
Key Properties
Legend
Raster Function Infos
Supported Operations:
Export Image
Identify
Compute Histograms
Compute Statistics Histograms
Get Samples
Compute Class Statistics
Query Boundary
Compute Pixel Location
Compute Angles
Validate
Project