View In:
ArcGIS JavaScript
ArcGIS Online Map Viewer
ArcGIS Earth
Service Description: The Chesapeake Bay Land Use/Land Cover (LULC) Database facilitates the characterization of the landscape over time for three discrete time periods at 1-meter spatial resolution. The database was developed by Chesapeake Conservancy (CC) in cooperation with the University of Vermont’s Spatial Analysis Laboratory and U.S. Geological Survey (USGS) as part of a 6-year Cooperative Agreement between Chesapeake Conservancy and the U.S. Environmental Protection Agency (EPA) and a separate Interagency Agreement between the USGS and EPA to provide geospatial support to the Chesapeake Bay Program Office. The database contains one-meter, 56-class Land Use/Land Cover (LULC) for all counties (205) within or adjacent to the Chesapeake Bay watershed for 2013/14, 2017/18, and 2021/22 depending on availability of National Agricultural Imagery Program (NAIP) imagery for each state. The data are built from 11-class Land Cover (LC), which is attributed to the LULC raster data Additionally, 56 LULC classes are generalized into 18 general LULC classes for ease of visualization and communication of LULC trends. LC change between discrete time periods, detected by spectral changes in NAIP imagery and LiDAR, represents changes between the 11 land cover classes. LULC change uses LC change to identify where changes are happening and then LC is translated to LULC to represent transitions between the 56 LULC classes. The LULCC data is represented as a LULC class change transition matrix which provides users acres of change between multiple classes. It is organized by 18x18 and 56x56 LULC classes and 11x11 LC classes. Sheets with Chesapeake Bay Water (CBW) in the name indicates raster tabulations were performed for only areas that fall inside the CBW boundary e.g., if user is interested in CBW portion of a county then they will use LULC Matrix CBW. Conversely, if they are interested in change transitions across the entire county, they will use LULC Matrix. Additionally, tabular summaries of 56 LULC, 18 LULC, and 11 LC representing the acres per class by county, state, and Chesapeake Bay portion of county and states and the net acres of change per class by county, state, and Chesapeake Bay portion of county and states. The database includes the following data: 1. 2013/2014 Land Use and Land Cover (LULC) 2. 2017/2018 Land Use and Land Cover (LULC) 3. 2021/2022 Land Use and Land Cover (LULC) 4. 2013/2014 to 2017/2018 Land Use and Land Cover Change (LULCC) rasters and LULCC matrices 5. 2013/2014 to 2021/2022 Land Use and Land Cover Change (LULCC) rasters and LULCC matrices 6. 2017/2018 to 2021/2022 Land Use and Land Cover Change (LULCC) rasters and LULCC matrices 7. LULC State and County Summary Tables 8. LULC State and County Summary Tables (Chesapeake Bay Watershed Portion) 9. LULCC State and County Summary Tables 10. Land Use/Land Cover Change State and County Summary Tables (Chesapeake Bay Watershed Portion)
Name: VaShlInv_SMM/ChesapeakeConservancy2022LULCSelectLocalities
Description: The Chesapeake Bay Land Use/Land Cover (LULC) Database facilitates the characterization of the landscape over time for three discrete time periods at 1-meter spatial resolution. The database was developed by Chesapeake Conservancy (CC) in cooperation with the University of Vermont’s Spatial Analysis Laboratory and U.S. Geological Survey (USGS) as part of a 6-year Cooperative Agreement between Chesapeake Conservancy and the U.S. Environmental Protection Agency (EPA) and a separate Interagency Agreement between the USGS and EPA to provide geospatial support to the Chesapeake Bay Program Office. The database contains one-meter, 56-class Land Use/Land Cover (LULC) for all counties (205) within or adjacent to the Chesapeake Bay watershed for 2013/14, 2017/18, and 2021/22 depending on availability of National Agricultural Imagery Program (NAIP) imagery for each state. The data are built from 11-class Land Cover (LC), which is attributed to the LULC raster data Additionally, 56 LULC classes are generalized into 18 general LULC classes for ease of visualization and communication of LULC trends. LC change between discrete time periods, detected by spectral changes in NAIP imagery and LiDAR, represents changes between the 11 land cover classes. LULC change uses LC change to identify where changes are happening and then LC is translated to LULC to represent transitions between the 56 LULC classes. The LULCC data is represented as a LULC class change transition matrix which provides users acres of change between multiple classes. It is organized by 18x18 and 56x56 LULC classes and 11x11 LC classes. Sheets with Chesapeake Bay Water (CBW) in the name indicates raster tabulations were performed for only areas that fall inside the CBW boundary e.g., if user is interested in CBW portion of a county then they will use LULC Matrix CBW. Conversely, if they are interested in change transitions across the entire county, they will use LULC Matrix. Additionally, tabular summaries of 56 LULC, 18 LULC, and 11 LC representing the acres per class by county, state, and Chesapeake Bay portion of county and states and the net acres of change per class by county, state, and Chesapeake Bay portion of county and states. The database includes the following data: 1. 2013/2014 Land Use and Land Cover (LULC) 2. 2017/2018 Land Use and Land Cover (LULC) 3. 2021/2022 Land Use and Land Cover (LULC) 4. 2013/2014 to 2017/2018 Land Use and Land Cover Change (LULCC) rasters and LULCC matrices 5. 2013/2014 to 2021/2022 Land Use and Land Cover Change (LULCC) rasters and LULCC matrices 6. 2017/2018 to 2021/2022 Land Use and Land Cover Change (LULCC) rasters and LULCC matrices 7. LULC State and County Summary Tables 8. LULC State and County Summary Tables (Chesapeake Bay Watershed Portion) 9. LULCC State and County Summary Tables 10. Land Use/Land Cover Change State and County Summary Tables (Chesapeake Bay Watershed Portion)
Single Fused Map Cache: false
Extent:
XMin: 1632075.0000000005
YMin: 1684094.9999999981
XMax: 1778296.0000000005
YMax: 1858065.9999999981
Spatial Reference: 102039
(102039)
Initial Extent:
XMin: 1632075.0000000005
YMin: 1684094.9999999981
XMax: 1778296.0000000005
YMax: 1858065.9999999981
Spatial Reference: 102039
(102039)
Full Extent:
XMin: 1632075.0000000005
YMin: 1684094.9999999981
XMax: 1778296.0000000005
YMax: 1858065.9999999981
Spatial Reference: 102039
(102039)
Pixel Size X: 1.0
Pixel Size Y: 1.0
Band Count: 1
Pixel Type: U8
RasterFunction Infos: {"rasterFunctionInfos": [{
"name": "None",
"description": "",
"help": ""
}]}
Mensuration Capabilities: Basic
Inspection Capabilities:
Has Histograms: true
Has Colormap: false
Has Multi Dimensions : false
Rendering Rule:
Min Scale: 0
Max Scale: 0
Copyright Text: Funding provided by U.S. Environmental Protection Agency Chesapeake Bay Program. Cooperative participants: University of Vermont Spatial Analysis Laboratory, Chesapeake Conservancy and U.S. Geological Survey.
Service Data Type: esriImageServiceDataTypeGeneric
Min Values: 10
Max Values: 86
Mean Values: 30.828931175491
Standard Deviation Values: 22.941227661286
Object ID Field:
Fields:
None
Default Mosaic Method: Center
Allowed Mosaic Methods:
SortField:
SortValue: null
Mosaic Operator: First
Default Compression Quality: 75
Default Resampling Method: Bilinear
Max Record Count: null
Max Image Height: 4100
Max Image Width: 15000
Max Download Image Count: null
Max Mosaic Image Count: null
Allow Raster Function: true
Allow Copy: true
Allow Analysis: true
Allow Compute TiePoints: false
Supports Statistics: false
Supports Advanced Queries: false
Use StandardizedQueries: true
Raster Type Infos:
Name: Raster Dataset
Description: Supports all ArcGIS Raster Datasets
Help:
Has Raster Attribute Table: true
Edit Fields Info: null
Ownership Based AccessControl For Rasters: null
Child Resources:
Info
Raster Attribute Table
Histograms
Statistics
Key Properties
Legend
Raster Function Infos
Supported Operations:
Export Image
Identify
Measure
Compute Histograms
Compute Statistics Histograms
Get Samples
Compute Class Statistics
Query Boundary
Compute Pixel Location
Compute Angles
Validate
Project